BEGIN:VCALENDAR
VERSION:2.0
PRODID:-//Diester - ECPv6.15.20//NONSGML v1.0//EN
CALSCALE:GREGORIAN
METHOD:PUBLISH
X-WR-CALNAME:Diester
X-ORIGINAL-URL:https://www.diester-prenzlau.de
X-WR-CALDESC:Veranstaltungen für Diester
REFRESH-INTERVAL;VALUE=DURATION:PT1H
X-Robots-Tag:noindex
X-PUBLISHED-TTL:PT1H
BEGIN:VTIMEZONE
TZID:Europe/Berlin
BEGIN:DAYLIGHT
TZOFFSETFROM:+0100
TZOFFSETTO:+0200
TZNAME:CEST
DTSTART:20200329T010000
END:DAYLIGHT
BEGIN:STANDARD
TZOFFSETFROM:+0200
TZOFFSETTO:+0100
TZNAME:CET
DTSTART:20201025T010000
END:STANDARD
BEGIN:DAYLIGHT
TZOFFSETFROM:+0100
TZOFFSETTO:+0200
TZNAME:CEST
DTSTART:20210328T010000
END:DAYLIGHT
BEGIN:STANDARD
TZOFFSETFROM:+0200
TZOFFSETTO:+0100
TZNAME:CET
DTSTART:20211031T010000
END:STANDARD
BEGIN:DAYLIGHT
TZOFFSETFROM:+0100
TZOFFSETTO:+0200
TZNAME:CEST
DTSTART:20220327T010000
END:DAYLIGHT
BEGIN:STANDARD
TZOFFSETFROM:+0200
TZOFFSETTO:+0100
TZNAME:CET
DTSTART:20221030T010000
END:STANDARD
END:VTIMEZONE
BEGIN:VEVENT
DTSTART;TZID=Europe/Berlin:20211215T150000
DTEND;TZID=Europe/Berlin:20211215T163000
DTSTAMP:20260421T231156
CREATED:20211116T093918Z
LAST-MODIFIED:20211124T100759Z
UID:326-1639580400-1639585800@www.diester-prenzlau.de
SUMMARY:Bürgermeistertreff
DESCRIPTION:Offene Gesprächsrunde mit Bürgermeister Hendrik Sommer. \nHier werden Fragen beantwortet\, Hinweise entgegengenommen\, Informationen gegeben. \nEine vorherige Anmeldung ist nicht notwendig.\nKontakt bei Rückfragen: pressestelle@prenzlau.de; Tel. 03984 / 75103.
URL:https://www.diester-prenzlau.de/veranstaltung/buergermeistertreff/
CATEGORIES:Bürgermeistertreff
END:VEVENT
END:VCALENDAR