BEGIN:VCALENDAR
VERSION:2.0
PRODID:-//Diester - ECPv6.15.20//NONSGML v1.0//EN
CALSCALE:GREGORIAN
METHOD:PUBLISH
X-WR-CALNAME:Diester
X-ORIGINAL-URL:https://www.diester-prenzlau.de
X-WR-CALDESC:Veranstaltungen für Diester
REFRESH-INTERVAL;VALUE=DURATION:PT1H
X-Robots-Tag:noindex
X-PUBLISHED-TTL:PT1H
BEGIN:VTIMEZONE
TZID:Europe/Berlin
BEGIN:DAYLIGHT
TZOFFSETFROM:+0100
TZOFFSETTO:+0200
TZNAME:CEST
DTSTART:20210328T010000
END:DAYLIGHT
BEGIN:STANDARD
TZOFFSETFROM:+0200
TZOFFSETTO:+0100
TZNAME:CET
DTSTART:20211031T010000
END:STANDARD
BEGIN:DAYLIGHT
TZOFFSETFROM:+0100
TZOFFSETTO:+0200
TZNAME:CEST
DTSTART:20220327T010000
END:DAYLIGHT
BEGIN:STANDARD
TZOFFSETFROM:+0200
TZOFFSETTO:+0100
TZNAME:CET
DTSTART:20221030T010000
END:STANDARD
BEGIN:DAYLIGHT
TZOFFSETFROM:+0100
TZOFFSETTO:+0200
TZNAME:CEST
DTSTART:20230326T010000
END:DAYLIGHT
BEGIN:STANDARD
TZOFFSETFROM:+0200
TZOFFSETTO:+0100
TZNAME:CET
DTSTART:20231029T010000
END:STANDARD
END:VTIMEZONE
BEGIN:VEVENT
DTSTART;TZID=Europe/Berlin:20220520T140000
DTEND;TZID=Europe/Berlin:20220520T180000
DTSTAMP:20260421T214430
CREATED:20220516T092550Z
LAST-MODIFIED:20220520T074633Z
UID:678-1653055200-1653069600@www.diester-prenzlau.de
SUMMARY:Hoffest zum Tag der Nachbarn 
DESCRIPTION:Beim Tag der Nachbarn Ende Mai darf das „Diester“ nicht fehlen. Auch in diesem Jahr gibt es wieder ein Hoffest mit Kaffee und Kuchen\, vielen Informationen und noch mehr Angeboten für Kinder. \nMit dabei sind neben dem „Diester“-Team unter anderem der „Bücherwurm“\, die Bürgerstiftung Barnim Uckermark\, der Migrationsfachdienst der Johanniter Unfallhilfe\, die Familienbande des Angermünder Bildungswerkes\, das Projekt „Gemeinsam zum Ziel“ (ebenfalls Angermünder Bildungswerk)\, die Mobile Bürgerhilfe der Ländlichen Arbeitsförderung Prenzlau e.V. und die Kinderservicestelle. \nUnterstützt wird das Fest durch die Wohnbau Prenzlau und den Seniorenbeirat der Stadt Prenzlau.
URL:https://www.diester-prenzlau.de/veranstaltung/hoffest-zum-tag-der-nachbarn/
END:VEVENT
END:VCALENDAR