BEGIN:VCALENDAR
VERSION:2.0
PRODID:-//Diester - ECPv6.15.20//NONSGML v1.0//EN
CALSCALE:GREGORIAN
METHOD:PUBLISH
X-WR-CALNAME:Diester
X-ORIGINAL-URL:https://www.diester-prenzlau.de
X-WR-CALDESC:Veranstaltungen für Diester
REFRESH-INTERVAL;VALUE=DURATION:PT1H
X-Robots-Tag:noindex
X-PUBLISHED-TTL:PT1H
BEGIN:VTIMEZONE
TZID:Europe/Berlin
BEGIN:DAYLIGHT
TZOFFSETFROM:+0100
TZOFFSETTO:+0200
TZNAME:CEST
DTSTART:20220327T010000
END:DAYLIGHT
BEGIN:STANDARD
TZOFFSETFROM:+0200
TZOFFSETTO:+0100
TZNAME:CET
DTSTART:20221030T010000
END:STANDARD
BEGIN:DAYLIGHT
TZOFFSETFROM:+0100
TZOFFSETTO:+0200
TZNAME:CEST
DTSTART:20230326T010000
END:DAYLIGHT
BEGIN:STANDARD
TZOFFSETFROM:+0200
TZOFFSETTO:+0100
TZNAME:CET
DTSTART:20231029T010000
END:STANDARD
BEGIN:DAYLIGHT
TZOFFSETFROM:+0100
TZOFFSETTO:+0200
TZNAME:CEST
DTSTART:20240331T010000
END:DAYLIGHT
BEGIN:STANDARD
TZOFFSETFROM:+0200
TZOFFSETTO:+0100
TZNAME:CET
DTSTART:20241027T010000
END:STANDARD
END:VTIMEZONE
BEGIN:VEVENT
DTSTART;TZID=Europe/Berlin:20231128T170000
DTEND;TZID=Europe/Berlin:20231128T183000
DTSTAMP:20260420T093441
CREATED:20230119T093508Z
LAST-MODIFIED:20230119T093559Z
UID:10000465-1701190800-1701196200@www.diester-prenzlau.de
SUMMARY:Stammtisch "Engagierte Stadt"
DESCRIPTION:Seit 2020 ist Prenzlau Teil des bundesweiten Netzwerks „Engagierte Stadt“. Dabei geht es darum\, Engagement zu bündeln\, sich auszutauschen\, zu vernetzen\, gute Erfahrungen anderer zu nutzen und eigene weiterzugeben\, sich gegenseitig zu unterstützen\, zu inspirieren\, gemeinsame Projekte zu realisieren. Einmal im Monat wird zum Engagementstammtisch eingeladen. In lockerer Runde werden Themen besprochen\, Projekte geplant\, Workshops durchgeführt. Dabei sein kann jede und jeder\, die oder der sich für die Stadt und die Menschen hier engagieren will.
URL:https://www.diester-prenzlau.de/veranstaltung/stammtisch-engagierte-stadt/2023-11-28/
END:VEVENT
END:VCALENDAR