BEGIN:VCALENDAR
VERSION:2.0
PRODID:-//Diester - ECPv6.15.20//NONSGML v1.0//EN
CALSCALE:GREGORIAN
METHOD:PUBLISH
X-WR-CALNAME:Diester
X-ORIGINAL-URL:https://www.diester-prenzlau.de
X-WR-CALDESC:Veranstaltungen für Diester
REFRESH-INTERVAL;VALUE=DURATION:PT1H
X-Robots-Tag:noindex
X-PUBLISHED-TTL:PT1H
BEGIN:VTIMEZONE
TZID:Europe/Berlin
BEGIN:DAYLIGHT
TZOFFSETFROM:+0100
TZOFFSETTO:+0200
TZNAME:CEST
DTSTART:20210328T010000
END:DAYLIGHT
BEGIN:STANDARD
TZOFFSETFROM:+0200
TZOFFSETTO:+0100
TZNAME:CET
DTSTART:20211031T010000
END:STANDARD
BEGIN:DAYLIGHT
TZOFFSETFROM:+0100
TZOFFSETTO:+0200
TZNAME:CEST
DTSTART:20220327T010000
END:DAYLIGHT
BEGIN:STANDARD
TZOFFSETFROM:+0200
TZOFFSETTO:+0100
TZNAME:CET
DTSTART:20221030T010000
END:STANDARD
BEGIN:DAYLIGHT
TZOFFSETFROM:+0100
TZOFFSETTO:+0200
TZNAME:CEST
DTSTART:20230326T010000
END:DAYLIGHT
BEGIN:STANDARD
TZOFFSETFROM:+0200
TZOFFSETTO:+0100
TZNAME:CET
DTSTART:20231029T010000
END:STANDARD
END:VTIMEZONE
BEGIN:VEVENT
DTSTART;TZID=Europe/Berlin:20220517T140000
DTEND;TZID=Europe/Berlin:20220517T160000
DTSTAMP:20260421T225414
CREATED:20220516T090153Z
LAST-MODIFIED:20220516T090153Z
UID:10000299-1652796000-1652803200@www.diester-prenzlau.de
SUMMARY:Ukraine-Treff
DESCRIPTION:Menschen aus der ukrainischen Community treffen sich dienstags und donnerstags\, um sich auszutauschen sowie ihre Fragen beantwortet zu bekommen. Beim Ukraine-Treff sind ehrenamtliche Dolmetschende vor Ort\, um zu helfen.
URL:https://www.diester-prenzlau.de/veranstaltung/ukraine-treff-2/2022-05-17/
END:VEVENT
END:VCALENDAR