BEGIN:VCALENDAR
VERSION:2.0
PRODID:-//Diester - ECPv6.15.20//NONSGML v1.0//EN
CALSCALE:GREGORIAN
METHOD:PUBLISH
X-ORIGINAL-URL:https://www.diester-prenzlau.de
X-WR-CALDESC:Veranstaltungen für Diester
REFRESH-INTERVAL;VALUE=DURATION:PT1H
X-Robots-Tag:noindex
X-PUBLISHED-TTL:PT1H
BEGIN:VTIMEZONE
TZID:Europe/Berlin
BEGIN:DAYLIGHT
TZOFFSETFROM:+0100
TZOFFSETTO:+0200
TZNAME:CEST
DTSTART:20280326T010000
END:DAYLIGHT
BEGIN:STANDARD
TZOFFSETFROM:+0200
TZOFFSETTO:+0100
TZNAME:CET
DTSTART:20281029T010000
END:STANDARD
BEGIN:DAYLIGHT
TZOFFSETFROM:+0100
TZOFFSETTO:+0200
TZNAME:CEST
DTSTART:20290325T010000
END:DAYLIGHT
BEGIN:STANDARD
TZOFFSETFROM:+0200
TZOFFSETTO:+0100
TZNAME:CET
DTSTART:20291028T010000
END:STANDARD
BEGIN:DAYLIGHT
TZOFFSETFROM:+0100
TZOFFSETTO:+0200
TZNAME:CEST
DTSTART:20300331T010000
END:DAYLIGHT
BEGIN:STANDARD
TZOFFSETFROM:+0200
TZOFFSETTO:+0100
TZNAME:CET
DTSTART:20301027T010000
END:STANDARD
END:VTIMEZONE
BEGIN:VEVENT
DTSTART;TZID=Europe/Berlin:20290801T100000
DTEND;TZID=Europe/Berlin:20290801T120000
DTSTAMP:20260424T114644
CREATED:20240223T100916Z
LAST-MODIFIED:20260219T074906Z
UID:10001361-1880272800-1880280000@www.diester-prenzlau.de
SUMMARY:Frauenfrühstück
DESCRIPTION:Immer mittwochs gibt es von 10 Uhr bis 12 Uhr im „Diester“ ein Frauenfrühstück\, zu dem die Bürgerstiftung Barnim Uckermark einlädt. Neben vielen Gesprächen\, neuen Eindrücken\, Aus- und Einblicken wird hier auch gemeinsam gekocht.
URL:https://www.diester-prenzlau.de/veranstaltung/frauenfruehstueck-2/2029-08-01/
LOCATION:Begegnungsstätte Diester\, Diesterwegstraße 6\, Prenzlau\, 17291
ORGANIZER;CN="Begegnungsst%C3%A4tte 'Diester'":MAILTO:diester@prenzlau.de
END:VEVENT
BEGIN:VEVENT
DTSTART;TZID=Europe/Berlin:20290808T100000
DTEND;TZID=Europe/Berlin:20290808T120000
DTSTAMP:20260424T114644
CREATED:20240223T100916Z
LAST-MODIFIED:20260219T074906Z
UID:10001362-1880877600-1880884800@www.diester-prenzlau.de
SUMMARY:Frauenfrühstück
DESCRIPTION:Immer mittwochs gibt es von 10 Uhr bis 12 Uhr im „Diester“ ein Frauenfrühstück\, zu dem die Bürgerstiftung Barnim Uckermark einlädt. Neben vielen Gesprächen\, neuen Eindrücken\, Aus- und Einblicken wird hier auch gemeinsam gekocht.
URL:https://www.diester-prenzlau.de/veranstaltung/frauenfruehstueck-2/2029-08-08/
LOCATION:Begegnungsstätte Diester\, Diesterwegstraße 6\, Prenzlau\, 17291
ORGANIZER;CN="Begegnungsst%C3%A4tte 'Diester'":MAILTO:diester@prenzlau.de
END:VEVENT
BEGIN:VEVENT
DTSTART;TZID=Europe/Berlin:20290815T100000
DTEND;TZID=Europe/Berlin:20290815T120000
DTSTAMP:20260424T114644
CREATED:20240223T100916Z
LAST-MODIFIED:20260219T074906Z
UID:10001363-1881482400-1881489600@www.diester-prenzlau.de
SUMMARY:Frauenfrühstück
DESCRIPTION:Immer mittwochs gibt es von 10 Uhr bis 12 Uhr im „Diester“ ein Frauenfrühstück\, zu dem die Bürgerstiftung Barnim Uckermark einlädt. Neben vielen Gesprächen\, neuen Eindrücken\, Aus- und Einblicken wird hier auch gemeinsam gekocht.
URL:https://www.diester-prenzlau.de/veranstaltung/frauenfruehstueck-2/2029-08-15/
LOCATION:Begegnungsstätte Diester\, Diesterwegstraße 6\, Prenzlau\, 17291
ORGANIZER;CN="Begegnungsst%C3%A4tte 'Diester'":MAILTO:diester@prenzlau.de
END:VEVENT
BEGIN:VEVENT
DTSTART;TZID=Europe/Berlin:20290822T100000
DTEND;TZID=Europe/Berlin:20290822T120000
DTSTAMP:20260424T114644
CREATED:20240223T100916Z
LAST-MODIFIED:20260219T074906Z
UID:10001364-1882087200-1882094400@www.diester-prenzlau.de
SUMMARY:Frauenfrühstück
DESCRIPTION:Immer mittwochs gibt es von 10 Uhr bis 12 Uhr im „Diester“ ein Frauenfrühstück\, zu dem die Bürgerstiftung Barnim Uckermark einlädt. Neben vielen Gesprächen\, neuen Eindrücken\, Aus- und Einblicken wird hier auch gemeinsam gekocht.
URL:https://www.diester-prenzlau.de/veranstaltung/frauenfruehstueck-2/2029-08-22/
LOCATION:Begegnungsstätte Diester\, Diesterwegstraße 6\, Prenzlau\, 17291
ORGANIZER;CN="Begegnungsst%C3%A4tte 'Diester'":MAILTO:diester@prenzlau.de
END:VEVENT
BEGIN:VEVENT
DTSTART;TZID=Europe/Berlin:20290829T100000
DTEND;TZID=Europe/Berlin:20290829T120000
DTSTAMP:20260424T114644
CREATED:20240223T100916Z
LAST-MODIFIED:20260219T074906Z
UID:10001365-1882692000-1882699200@www.diester-prenzlau.de
SUMMARY:Frauenfrühstück
DESCRIPTION:Immer mittwochs gibt es von 10 Uhr bis 12 Uhr im „Diester“ ein Frauenfrühstück\, zu dem die Bürgerstiftung Barnim Uckermark einlädt. Neben vielen Gesprächen\, neuen Eindrücken\, Aus- und Einblicken wird hier auch gemeinsam gekocht.
URL:https://www.diester-prenzlau.de/veranstaltung/frauenfruehstueck-2/2029-08-29/
LOCATION:Begegnungsstätte Diester\, Diesterwegstraße 6\, Prenzlau\, 17291
ORGANIZER;CN="Begegnungsst%C3%A4tte 'Diester'":MAILTO:diester@prenzlau.de
END:VEVENT
END:VCALENDAR